BEGIN:VCALENDAR
VERSION:2.0
PRODID:icalendar-ruby
CALSCALE:GREGORIAN
METHOD:PUBLISH
BEGIN:VEVENT
DTSTAMP:20260424T112306Z
UID:311-1965@bethelhosanna.org
DTSTART:20260507T230000Z
DTEND:20260508T003000Z
CLASS:PUBLIC
CREATED:20260423T153408
DESCRIPTION:
LAST-MODIFIED:20260423T153408
LOCATION:Zoom
SUMMARY:Membership-Discipleship Class
URL;VALUE=URI:https://www.bethelhosanna.org/events/membership-discipleship-
 class/2026-05-07
ATTACH;FILENAME=BHP-Logo---Transparent---400x400.png;FMTTYPE=image/png:http
 s://dq5pwpg1q8ru0.cloudfront.net/2026/04/23/19/34/08/ca737d6c-ad61-4527-bb
 b7-144d91c480ee/BHP-Logo---Transparent---400x400.png
END:VEVENT
END:VCALENDAR
