BEGIN:VCALENDAR
VERSION:2.0
PRODID:icalendar-ruby
CALSCALE:GREGORIAN
METHOD:PUBLISH
BEGIN:VEVENT
DTSTAMP:20260424T113519Z
UID:313-1967@bethelhosanna.org
DTSTART:20260528T230000Z
DTEND:20260529T003000Z
CLASS:PUBLIC
CREATED:20260423T153629
DESCRIPTION:
LAST-MODIFIED:20260423T153629
LOCATION:Zoom
SUMMARY:Membership-Discipleship Class
URL;VALUE=URI:https://www.bethelhosanna.org/events/membership-discipleship-
 class--313/2026-05-28
ATTACH;FILENAME=BHP-Logo---Transparent---400x400.png;FMTTYPE=image/png:http
 s://dq5pwpg1q8ru0.cloudfront.net/2026/04/23/19/36/29/fd5b9766-d45e-4677-b7
 7a-e5617a334e0b/BHP-Logo---Transparent---400x400.png
END:VEVENT
END:VCALENDAR
