BEGIN:VCALENDAR
VERSION:2.0
PRODID:icalendar-ruby
CALSCALE:GREGORIAN
METHOD:PUBLISH
BEGIN:VEVENT
DTSTAMP:20260424T112435Z
UID:312-1966@bethelhosanna.org
DTSTART:20260521T230000Z
DTEND:20260522T003000Z
CLASS:PUBLIC
CREATED:20260423T153514
DESCRIPTION:
LAST-MODIFIED:20260423T153514
LOCATION:Zoom
SUMMARY:Membership-Discipleship Class
URL;VALUE=URI:https://www.bethelhosanna.org/events/membership-discipleship-
 class--312/2026-05-21
ATTACH;FILENAME=BHP-Logo---Transparent---400x400.png;FMTTYPE=image/png:http
 s://dq5pwpg1q8ru0.cloudfront.net/2026/04/23/19/35/14/4468fb12-7165-40b3-b7
 6e-c54e98604768/BHP-Logo---Transparent---400x400.png
END:VEVENT
END:VCALENDAR
