BEGIN:VCALENDAR
VERSION:2.0
PRODID:icalendar-ruby
CALSCALE:GREGORIAN
METHOD:PUBLISH
BEGIN:VEVENT
DTSTAMP:20260424T113332Z
UID:308-1918@bethelhosanna.org
DTSTART:20260508T140000Z
DTEND:20260508T180000Z
CLASS:PUBLIC
CREATED:20260423T152841
DESCRIPTION:Fresh Produce Distribution
LAST-MODIFIED:20260423T152841
LOCATION:3465 Haddonfield Rd.\, Pennsauken\, NJ 08109
SUMMARY:Food Is Important - Fresh Produce Distribution
URL;VALUE=URI:https://www.bethelhosanna.org/events/food-is-important-fresh-
 produce-distribution/2026-05-08
ATTACH;FILENAME=Fii-3D-Logo-Idea---Transparent-Background.png;FMTTYPE=image
 /png:https://dq5pwpg1q8ru0.cloudfront.net/2026/04/23/19/28/41/7ca55542-7af
 6-41a2-ab6b-a69cd3a2a00a/Fii-3D-Logo-Idea---Transparent-Background.png
END:VEVENT
END:VCALENDAR
