BEGIN:VCALENDAR
VERSION:2.0
PRODID:icalendar-ruby
CALSCALE:GREGORIAN
METHOD:PUBLISH
BEGIN:VEVENT
DTSTAMP:20260424T112309Z
UID:310-1964@bethelhosanna.org
DTSTART:20260524T190000Z
DTEND:20260524T210000Z
CLASS:PUBLIC
CREATED:20260423T153210
DESCRIPTION:
LAST-MODIFIED:20260423T153210
LOCATION:Bethel AME Church - Moorestown\, NJ
SUMMARY:Camden-Trenton District Pentecost Service
URL;VALUE=URI:https://www.bethelhosanna.org/events/camden-trenton-district-
 pentecost-service/2026-05-24
ATTACH;FILENAME=Logo-BlueBlack-Background.jpg;FMTTYPE=image/jpeg:https://dq
 5pwpg1q8ru0.cloudfront.net/2026/04/23/19/31/47/00990586-e82b-4c24-ac6f-4e3
 6b602cce9/Logo-BlueBlack-Background.jpg
END:VEVENT
END:VCALENDAR
