BEGIN:VCALENDAR
VERSION:2.0
PRODID:icalendar-ruby
CALSCALE:GREGORIAN
METHOD:PUBLISH
BEGIN:VEVENT
DTSTAMP:20260424T141901Z
UID:309-1928@bethelhosanna.org
DTSTART:20260508T230000Z
DTEND:20260509T000000Z
CLASS:PUBLIC
CREATED:20260423T153026
DESCRIPTION:Rev. R2 is inviting you to a scheduled Zoom meeting.\nTopic: BH
 P Church School\, Bible Study &amp\; Prayer Calls\nTime: Apr 9\, 2026 06:0
 0 AM Eastern Time (US and Canada)\n        Every week on Thu\, until J
 an 28\, 2027\, 43 occurrence(s)\nPlease download and import the following 
 iCalendar (.ics) files to your calendar system.\nWeekly: https://us02web.z
 oom.us/meeting/v5ItcOitrz8i-AKr_lNNrSv88M76x-x2yQ/ics?icsToken=DBzqNC9K48J
 YTFB90gAALAAAANv-zI38pT-RIuz46oTsW1CJgBgq02x1F8EYkX57zS5HAdyzFBtX3R0nsV9Ku
 HMugU_f0tc4UyQACXIq5TAwMDAwMQ\nJoin Zoom Meeting\nhttps://us02web.zoom.us/
 j/260715148?pwd=alC8wBz8a7sjVbeThnvPvpX4Y5VxHP.1\nMeeting ID: 260 715 148\
 nPasscode: 8216\n---\nOne tap mobile\n+13092053325\,\,260715148# US\n+1312
 6266799\,\,260715148# US (Chicago)\nJoin instructions\nhttps://us02web.zoo
 m.us/meetings/260715148/invitations?signature=VrJPtp1JwOT1TOUbfGLA2P56K-27
 rwbMaPAO-6YdKaQ
LAST-MODIFIED:20260423T153026
LOCATION:Zoom Meeting ID: 260 715 148 - PC: 8216
SUMMARY:BHP Weekly Prayer Call
URL;VALUE=URI:https://www.bethelhosanna.org/events/bhp-weekly-prayer-call/2
 026-05-08
ATTACH;FILENAME=BHP-Logo---Transparent---400x400.png;FMTTYPE=image/png:http
 s://dq5pwpg1q8ru0.cloudfront.net/2026/04/23/19/30/26/37dcbfca-7ac0-4af2-b9
 10-ff3cbb3f8463/BHP-Logo---Transparent---400x400.png
END:VEVENT
END:VCALENDAR
