BEGIN:VCALENDAR
VERSION:2.0
PRODID:icalendar-ruby
CALSCALE:GREGORIAN
METHOD:PUBLISH
BEGIN:VEVENT
DTSTAMP:20260424T113211Z
UID:307-1917@bethelhosanna.org
DTSTART:20260502T180000Z
DTEND:20260502T200000Z
CLASS:PUBLIC
CREATED:20260423T152734
DESCRIPTION:Here a Word...\nShare a Word...\nAbout the Goodness of the Lord
 !
LAST-MODIFIED:20260423T152734
LOCATION:Multi-Purpose Room
SUMMARY:BHP Love Feast
URL;VALUE=URI:https://www.bethelhosanna.org/events/bhp-love-feast--307/2026
 -05-02
ATTACH;FILENAME=Love-Feast-Lettering-Red.jpg;FMTTYPE=image/jpeg:https://dq5
 pwpg1q8ru0.cloudfront.net/2026/04/23/19/27/33/bd99e76a-e33d-4d56-9f4f-b4c7
 940418aa/Love-Feast-Lettering-Red.jpg
END:VEVENT
END:VCALENDAR
